View In:
ArcGIS JavaScript
ArcGIS Online Map Viewer
ArcGIS Earth
Service Description: Sanborn1897
Name: Sanborn1897
Description:
Single Fused Map Cache: false
Extent:
XMin: 509733.18809675495
YMin: 2302943.121337153
XMax: 513004.0564491359
YMax: 2306119.454695394
Spatial Reference: 102658
(2236)
Initial Extent:
XMin: 509733.18809675495
YMin: 2302943.121337153
XMax: 513004.0564491359
YMax: 2306119.454695394
Spatial Reference: 102658
(2236)
Full Extent:
XMin: 509733.18809675495
YMin: 2302943.121337153
XMax: 513004.0564491359
YMax: 2306119.454695394
Spatial Reference: 102658
(2236)
Pixel Size X: 0.8108250749580889
Pixel Size Y: 0.7617106374678129
Band Count: 3
Pixel Type: U8
RasterFunction Infos: {"rasterFunctionInfos": [{
"name": "None",
"description": "",
"help": ""
}]}
Mensuration Capabilities: Basic
Inspection Capabilities:
Has Histograms: true
Has Colormap: false
Has Multi Dimensions : false
Rendering Rule:
Min Scale: 0
Max Scale: 0
Copyright Text:
Service Data Type: esriImageServiceDataTypeRGB
Min Values: 31, 32, 19
Max Values: 255, 255, 255
Mean Values: 228.36643463055844, 226.56438318965223, 213.8428723015603
Standard Deviation Values: 26.03132251116478, 27.04698495368053, 29.48864359868993
Object ID Field:
Fields:
None
Default Mosaic Method: Center
Allowed Mosaic Methods:
SortField:
SortValue: null
Mosaic Operator: First
Default Compression Quality: 75
Default Resampling Method: Bilinear
Max Record Count: null
Max Image Height: 4100
Max Image Width: 15000
Max Download Image Count: null
Max Mosaic Image Count: null
Allow Raster Function: true
Allow Copy: true
Allow Analysis: true
Allow Compute TiePoints: false
Supports Statistics: false
Supports Advanced Queries: false
Use StandardizedQueries: true
Raster Type Infos:
Name: Raster Dataset
Description: Supports all ArcGIS Raster Datasets
Help:
Has Raster Attribute Table: false
Edit Fields Info: null
Ownership Based AccessControl For Rasters: null
Child Resources:
Info
Histograms
Statistics
Key Properties
Legend
Raster Function Infos
Supported Operations:
Export Image
Identify
Measure
Compute Histograms
Compute Statistics Histograms
Get Samples
Compute Class Statistics
Query Boundary
Compute Pixel Location
Compute Angles
Validate
Project