View In:
ArcGIS JavaScript
ArcGIS Online Map Viewer
ArcGIS Earth
Service Description: stormwater1
Name: stormwater1
Description:
Single Fused Map Cache: false
Extent:
XMin: 508349.38453000004
YMin: 2301724.68865
XMax: 511238.79613000003
YMax: 2307552.30945
Spatial Reference: 102658
(2236)
Initial Extent:
XMin: 508349.38453000004
YMin: 2301724.68865
XMax: 511238.79613000003
YMax: 2307552.30945
Spatial Reference: 102658
(2236)
Full Extent:
XMin: 508349.38453000004
YMin: 2301724.68865
XMax: 511238.79613000003
YMax: 2307552.30945
Spatial Reference: 102658
(2236)
Pixel Size X: 0.0723999999999998
Pixel Size Y: 0.07240000000000187
Band Count: 4
Pixel Type: U8
RasterFunction Infos: {"rasterFunctionInfos": [{
"name": "None",
"description": "",
"help": ""
}]}
Mensuration Capabilities: Basic
Inspection Capabilities:
Has Histograms: true
Has Colormap: false
Has Multi Dimensions : false
Rendering Rule:
Min Scale: 0
Max Scale: 0
Copyright Text:
Service Data Type: esriImageServiceDataTypeGeneric
Min Values: 0, 0, 0, 0
Max Values: 255, 255, 255, 255
Mean Values: 43.359619930833, 45.298163244423, 41.421991321716, 89.05793964867
Standard Deviation Values: 67.537443166459, 69.077622167705, 66.227745422602, 121.56668129248
Object ID Field:
Fields:
None
Default Mosaic Method: Center
Allowed Mosaic Methods:
SortField:
SortValue: null
Mosaic Operator: First
Default Compression Quality: 75
Default Resampling Method: Bilinear
Max Record Count: null
Max Image Height: 4100
Max Image Width: 15000
Max Download Image Count: null
Max Mosaic Image Count: null
Allow Raster Function: true
Allow Copy: true
Allow Analysis: true
Allow Compute TiePoints: false
Supports Statistics: false
Supports Advanced Queries: false
Use StandardizedQueries: true
Raster Type Infos:
Name: Raster Dataset
Description: Supports all ArcGIS Raster Datasets
Help:
Has Raster Attribute Table: false
Edit Fields Info: null
Ownership Based AccessControl For Rasters: null
Child Resources:
Info
Histograms
Statistics
Key Properties
Legend
Raster Function Infos
Supported Operations:
Export Image
Identify
Measure
Compute Histograms
Compute Statistics Histograms
Get Samples
Compute Class Statistics
Query Boundary
Compute Pixel Location
Compute Angles
Validate
Project